Workbook

Sheet Declaratie overzicht
F2: mrn_declaration | G2: 1.1.0 | H2: nl | T2: 1e kwartaal 2024 | U2: 1e kwartaal 2024
A3: Rekentool voor de kwartaaldeclaratie van matrassen | T3: 2e kwartaal 2024 | U3: 2e kwartaal 2024
A4: Voor: inzamelaars / gemeentes | T4: 3e kwartaal 2024 | U4: 3e kwartaal 2024
A5: Met deze rekentool kunt u de kosten die u gemaakt heeft voor containers, transport en verwerking van matrassen declareren. | T5: 4e kwartaal 2024 | U5: 4e kwartaal 2024
A6: U kunt alleen een declaratie indienen als de matrassen worden verwerkt door RetourMatras of Matras Recycling Europe.
A7: U dient de gemaakte kosten exclusief BTW in te dienen.
T8: 1e kwartaal 2023 | U8: 1e kwartaal 2023
A9: Kwartaal waarover u declareert: | B9: Kies het kwartaal... | C9: Kies het jaar... | D9: < Selecteer via het pijltje | T9: 2e kwartaal 2023 | U9: 2e kwartaal 2023
T10: 3e kwartaal 2023 | U10: 3e kwartaal 2023
A11: Stap 1 | Verwerkingskosten invoeren | T11: 4e kwartaal 2023 | U11: 4e kwartaal 2023
A12: Dit zijn de kosten die u betaalt aan de verwerker van de matrassen. | G12: Verwerkingskosten invoeren ➞
A13: Als er een all-in tarief is voor de verwerking en het transport, dient u bij de verwerker een splitsing op te vragen van het tarief.
A14: In deze spreadsheet dient u de verwerkingskosten en het gewicht in kilo’s in te voeren.
A15: Als er per container wordt gefactureerd dient u het gewicht van de weegbon in te vullen.
A17: Stap 2 | Transportkosten invoeren
A18: De transportkosten zijn de kosten (enkele reisafstand) van de inzamellocatie naar locatie van de verwerker. | G18: Transportkosten invoeren ➞
A20: Stap 3 | Containerkosten invoeren
A21: Dit zijn de kosten die u heeft betaald voor de containers waarin de matrassen worden opgeslagen. | G21: Containerkosten invoeren ➞
A22: Bij eigen containers wordt er met een vastgesteld bedrag van € 250,- per kwartaal per container gerekend.
A24: Stap 4 | Declaratie indienen
A25: Let op: Nadat u de rekentool heeft ingevuld dient u dit formulier online via de MRN portal in te dienen. | G25: https://portal.mrn.nl
A28: Declaratie totaal:
A29: Periode | B29: Verwerkingskosten | C29: Transportkosten | D29: Containerkosten | E29: Totaal | F29: Gewicht
F30: Kg
A31: =B9&" "&C9 -> Kies het kwartaal... Kies het jaar... | B31: ='Stap 1 | Verwerkingskosten'!E14 -> 0 | C31: =SUM('Stap 2 | Transportkosten'!D14,'Stap 2 | Transportkosten'!H14) -> 0 | D31: ='Stap 3 | Containerkosten'!G14 -> 0 | E31: =B31+C31+D31 -> 0 | F31: ='Stap 1 | Verwerkingskosten'!F14 -> 0
A33: Alle bedragen zijn exclusief BTW.

Sheet Stap 1 | Verwerkingskosten
A1: Stap 1 | Verwerkingskosten invoeren
A2: Voer hieronder uw verwerkingskosten in. Dit zijn de kosten die u betaalt aan de verwerker van de matrassen.
A4: Heeft u een all-in tarief?
A5: Als u een all-in tarief heeft voor de verwerking en het transport, dan dient u bij de verwerker een splitsing op te vragen van het tarief.
A7: Goed om te weten:
A8: - Als er per container wordt gefactureerd dient u het gewicht van de weegbon in te vullen.
A9: - Heeft u een factuur voor de verwerking in aantallen matrassen, dan kunt u een gewicht van 18 kg per matras aanhouden.
A12: Inzamelaar / gemeente | B12: Verwerker | C12: Afvalstroomnummer (ASN) | D12: Verwerkingsdatum | E12: Factuurbedrag verwerker | F12: Gewicht | M12: Matras Recycling Europe
A13: Indien u declareert voor meerdere partijen, dan voert u hier de verschillende namen in, anders vult u hier de naam van uw eigen gemeente of bedrijf in. | B13: Selecteer de verwerker. Om de kosten te kunnen declareren, moeten de matrassen via Matras Recycling Europe of RetourMatras worden verwerkt. | C13: Heeft u geen ASN nummer? Neem dan contact op met uw verwerker om dit op te vragen. | E13: € excl. BTW | F13: Het totaalgewicht in kg | M13: Retourmatras
E14: =SUM(E15:E1001) -> 0 | F14: =SUM(F15:F1001) -> 0

Sheet Stap 2 | Transportkosten
A1: Stap 2 | Transportkosten invoeren
A2: Voer hieronder uw transportkosten in. De transportkosten zijn de kosten (enkele reisafstand) van de inzamellocatie naar de locatie van de verwerker.
A4: Heeft u een all-in tarief?
A5: Als u een all-in tarief heeft voor de verwerking en het transport, dan dient u bij de verwerker een splitsing op te vragen van het tarief.
A7: Goed om te weten:
A8: - De grijsgekleurde velden worden automatisch voor u ingevuld/berekend.
A9: - Afhankelijk van hoe u het transport heeft geregeld vult u Transportkosten verwerker óf Afstand naar verwerker en Prijs per km in.
D11: ┌─────────────────┐ | E11: of | F11: ┌─────────────────────────┐
A12: Inzamelaar / gemeente | B12: Afvalstroomnummer (ASN) | C12: Verwerkingsdatum | D12: Transportkosten verwerker | F12: Afstand naar verwerker | G12: Prijs per km | H12: Eigen vervoerskosten
A13: Indien u declareert voor meerdere partijen, dan voert u hier de verschillende namen in, anders vult u hier de naam van uw eigen gemeente of bedrijf in. | B13: Heeft u geen ASN nummer? Neem dan contact op met uw recycler om dit op te vragen. | D13: € excl. BTW | F13: Afstand in km van verzamellocatie naar verwerker | G13: € / km | H13: € excl. BTW
D14: =SUM(D15:D1000) -> 0 | H14: =SUM(H15:H1000) -> 0
A15: =IF('Stap 1 | Verwerkingskosten'!A15=0,"",'Stap 1 | Verwerkingskosten'!A15) | B15: =IF('Stap 1 | Verwerkingskosten'!C15=0,"",'Stap 1 | Verwerkingskosten'!C15) | C15: =IF('Stap 1 | Verwerkingskosten'!D15=0,"",'Stap 1 | Verwerkingskosten'!D15) | H15: =F15*G15 -> 0
A16: =IF('Stap 1 | Verwerkingskosten'!A16=0,"",'Stap 1 | Verwerkingskosten'!A16) | B16: =IF('Stap 1 | Verwerkingskosten'!C16=0,"",'Stap 1 | Verwerkingskosten'!C16) | C16: =IF('Stap 1 | Verwerkingskosten'!D16=0,"",'Stap 1 | Verwerkingskosten'!D16) | H16: =F16*G16 -> 0
A17: =IF('Stap 1 | Verwerkingskosten'!A17=0,"",'Stap 1 | Verwerkingskosten'!A17) | B17: =IF('Stap 1 | Verwerkingskosten'!C17=0,"",'Stap 1 | Verwerkingskosten'!C17) | C17: =IF('Stap 1 | Verwerkingskosten'!D17=0,"",'Stap 1 | Verwerkingskosten'!D17) | H17: =F17*G17 -> 0
A18: =IF('Stap 1 | Verwerkingskosten'!A18=0,"",'Stap 1 | Verwerkingskosten'!A18) | B18: =IF('Stap 1 | Verwerkingskosten'!C18=0,"",'Stap 1 | Verwerkingskosten'!C18) | C18: =IF('Stap 1 | Verwerkingskosten'!D18=0,"",'Stap 1 | Verwerkingskosten'!D18) | H18: =F18*G18 -> 0
A19: =IF('Stap 1 | Verwerkingskosten'!A19=0,"",'Stap 1 | Verwerkingskosten'!A19) | B19: =IF('Stap 1 | Verwerkingskosten'!C19=0,"",'Stap 1 | Verwerkingskosten'!C19) | C19: =IF('Stap 1 | Verwerkingskosten'!D19=0,"",'Stap 1 | Verwerkingskosten'!D19) | H19: =F19*G19 -> 0
A20: =IF('Stap 1 | Verwerkingskosten'!A20=0,"",'Stap 1 | Verwerkingskosten'!A20) | B20: =IF('Stap 1 | Verwerkingskosten'!C20=0,"",'Stap 1 | Verwerkingskosten'!C20) | C20: =IF('Stap 1 | Verwerkingskosten'!D20=0,"",'Stap 1 | Verwerkingskosten'!D20) | H20: =F20*G20 -> 0
A21: =IF('Stap 1 | Verwerkingskosten'!A21=0,"",'Stap 1 | Verwerkingskosten'!A21) | B21: =IF('Stap 1 | Verwerkingskosten'!C21=0,"",'Stap 1 | Verwerkingskosten'!C21) | C21: =IF('Stap 1 | Verwerkingskosten'!D21=0,"",'Stap 1 | Verwerkingskosten'!D21) | H21: =F21*G21 -> 0
A22: =IF('Stap 1 | Verwerkingskosten'!A22=0,"",'Stap 1 | Verwerkingskosten'!A22) | B22: =IF('Stap 1 | Verwerkingskosten'!C22=0,"",'Stap 1 | Verwerkingskosten'!C22) | C22: =IF('Stap 1 | Verwerkingskosten'!D22=0,"",'Stap 1 | Verwerkingskosten'!D22) | H22: =F22*G22 -> 0
A23: =IF('Stap 1 | Verwerkingskosten'!A23=0,"",'Stap 1 | Verwerkingskosten'!A23) | B23: =IF('Stap 1 | Verwerkingskosten'!C23=0,"",'Stap 1 | Verwerkingskosten'!C23) | C23: =IF('Stap 1 | Verwerkingskosten'!D23=0,"",'Stap 1 | Verwerkingskosten'!D23) | H23: =F23*G23 -> 0
A24: =IF('Stap 1 | Verwerkingskosten'!A24=0,"",'Stap 1 | Verwerkingskosten'!A24) | B24: =IF('Stap 1 | Verwerkingskosten'!C24=0,"",'Stap 1 | Verwerkingskosten'!C24) | C24: =IF('Stap 1 | Verwerkingskosten'!D24=0,"",'Stap 1 | Verwerkingskosten'!D24) | H24: =F24*G24 -> 0
A25: =IF('Stap 1 | Verwerkingskosten'!A25=0,"",'Stap 1 | Verwerkingskosten'!A25) | B25: =IF('Stap 1 | Verwerkingskosten'!C25=0,"",'Stap 1 | Verwerkingskosten'!C25) | C25: =IF('Stap 1 | Verwerkingskosten'!D25=0,"",'Stap 1 | Verwerkingskosten'!D25) | H25: =F25*G25 -> 0
A26: =IF('Stap 1 | Verwerkingskosten'!A26=0,"",'Stap 1 | Verwerkingskosten'!A26) | B26: =IF('Stap 1 | Verwerkingskosten'!C26=0,"",'Stap 1 | Verwerkingskosten'!C26) | C26: =IF('Stap 1 | Verwerkingskosten'!D26=0,"",'Stap 1 | Verwerkingskosten'!D26) | H26: =F26*G26 -> 0
... A1000: =IF('Stap 1 | Verwerkingskosten'!A1000=0,"",'Stap 1 | Verwerkingskosten'!A1000) | B1000: =IF('Stap 1 | Verwerkingskosten'!C1000=0,"",'Stap 1 | Verwerkingskosten'!C1000) | C1000: =IF('Stap 1 | Verwerkingskosten'!D1000=0,"",'Stap 1 | Verwerkingskosten'!D1000) | H1000: =F1000*G1000 -> 0

Sheet Stap 3 | Containerkosten
A1: Stap 3 | Containerkosten invoeren
A2: Voer hieronder uw containerkosten in. Dit zijn de kosten die u heeft betaald voor de containers waarin de matrassen worden opgeslagen.
A4: Container op locatie:
A5: Als de ingezamelde matrassen worden opgeslagen in een container op locatie dan kunnen deze kosten hieronder worden berekend.
A7: Goed om te weten:
A8: - Als u geen containerkosten heeft, hoeft u hier niets in te vullen.
A9: - Bij eigen containers wordt er met een vastgesteld bedrag van € 250,- per kwartaal per container gerekend.
A10: - De grijsgekleurde velden worden automatisch voor u ingevuld/berekend.
A12: Inzamelaar / gemeente | B12: Aantal eigen containers | C12: Kosten eigen containers | D12: Aantal huur containers | E12: Kosten huur containers | F12: Kosten huur containers | G12: Totaal
A13: Indien u declareert voor meerdere partijen, dan voert u hier de verschillende namen in, anders vult u hier de naam van uw eigen gemeente of bedrijf in. | C13: Per kwartaal | E13: Per maand | F13: Per kwartaal | G13: Per kwartaal
G14: =SUM(G15:G39) -> 0
C15: =IF(B15>0,B15*250,(0)) -> 0 | F15: =D15*E15*3 -> 0 | G15: =C15+F15 -> 0
C16: =IF(B16>0,B16*250,(0)) -> 0 | F16: =D16*E16*3 -> 0 | G16: =C16+F16 -> 0
C17: =IF(B17>0,B17*250,(0)) -> 0 | F17: =D17*E17*3 -> 0 | G17: =C17+F17 -> 0
C18: =IF(B18>0,B18*250,(0)) -> 0 | F18: =D18*E18*3 -> 0 | G18: =C18+F18 -> 0
C19: =IF(B19>0,B19*250,(0)) -> 0 | F19: =D19*E19*3 -> 0 | G19: =C19+F19 -> 0
C20: =IF(B20>0,B20*250,(0)) -> 0 | F20: =D20*E20*3 -> 0 | G20: =C20+F20 -> 0
C21: =IF(B21>0,B21*250,(0)) -> 0 | F21: =D21*E21*3 -> 0 | G21: =C21+F21 -> 0
C22: =IF(B22>0,B22*250,(0)) -> 0 | F22: =D22*E22*3 -> 0 | G22: =C22+F22 -> 0
C23: =IF(B23>0,B23*250,(0)) -> 0 | F23: =D23*E23*3 -> 0 | G23: =C23+F23 -> 0
C24: =IF(B24>0,B24*250,(0)) -> 0 | F24: =D24*E24*3 -> 0 | G24: =C24+F24 -> 0
C25: =IF(B25>0,B25*250,(0)) -> 0 | F25: =D25*E25*3 -> 0 | G25: =C25+F25 -> 0
C26: =IF(B26>0,B26*250,(0)) -> 0 | F26: =D26*E26*3 -> 0 | G26: =C26+F26 -> 0
... C39: =IF(B39>0,B39*250,(0)) -> 0 | F39: =D39*E39*3 -> 0 | G39: =C39+F39 -> 0
